BEGIN:VCALENDAR
VERSION:2.0
PRODID:-//Metrology and Quality News - Online Magazine - ECPv6.15.20//NONSGML v1.0//EN
CALSCALE:GREGORIAN
METHOD:PUBLISH
X-WR-CALNAME:Metrology and Quality News - Online Magazine
X-ORIGINAL-URL:https://metrology.news
X-WR-CALDESC:Events for Metrology and Quality News - Online Magazine
REFRESH-INTERVAL;VALUE=DURATION:PT1H
X-Robots-Tag:noindex
X-PUBLISHED-TTL:PT1H
BEGIN:VTIMEZONE
TZID:Europe/Paris
BEGIN:DAYLIGHT
TZOFFSETFROM:+0100
TZOFFSETTO:+0200
TZNAME:CEST
DTSTART:20250330T010000
END:DAYLIGHT
BEGIN:STANDARD
TZOFFSETFROM:+0200
TZOFFSETTO:+0100
TZNAME:CET
DTSTART:20251026T010000
END:STANDARD
BEGIN:DAYLIGHT
TZOFFSETFROM:+0100
TZOFFSETTO:+0200
TZNAME:CEST
DTSTART:20260329T010000
END:DAYLIGHT
BEGIN:STANDARD
TZOFFSETFROM:+0200
TZOFFSETTO:+0100
TZNAME:CET
DTSTART:20261025T010000
END:STANDARD
BEGIN:DAYLIGHT
TZOFFSETFROM:+0100
TZOFFSETTO:+0200
TZNAME:CEST
DTSTART:20270328T010000
END:DAYLIGHT
BEGIN:STANDARD
TZOFFSETFROM:+0200
TZOFFSETTO:+0100
TZNAME:CET
DTSTART:20271031T010000
END:STANDARD
END:VTIMEZONE
BEGIN:VEVENT
DTSTART;VALUE=DATE:20260413
DTEND;VALUE=DATE:20260418
DTSTAMP:20260420T014028
CREATED:20251228T133018Z
LAST-MODIFIED:20251229T135641Z
UID:72860-1776038400-1776470399@metrology.news
SUMMARY:SIMTOS 2026 - KOREA
DESCRIPTION:Seoul International Manufacturing Technology Show is South Korea’s largest and most influential manufacturing and machine‑tool exhibition\, taking place April 13–17\, 2026 at the KINTEX (Korea International Exhibition Center) in Goyang\, near Seoul. \nHeld biennially and organized by the Korea Machine Tool Manufacturers’ Association (KOMMA)\, SIMTOS offers a comprehensive showcase of advanced machine tools\, production systems\, automation technologies\, robotics\, digital manufacturing solutions and smart factory innovations under the theme “AI Autonomous Manufacturing Meets Talent.” \nWith an expected ~1\,300 exhibitors from 35 countries and around 100\,000 professional visitors\, the five‑day event features multiple specialized pavilions — from metal cutting and tooling to welding\, forming and digital transformation — plus dedicated zones for AI\, robotics and manufacturing automation\, live demos\, matchmaking programs and conferences that drive global industry networking and technology exchange.
URL:https://metrology.news/event/simtos-2026-korea/
LOCATION:Korea International Exhibition Center\, 217-59 Kintekseu-ro\, Seoul\, Korea\, Republic of
CATEGORIES:Exhibition
ATTACH;FMTTYPE=image/png:https://metrology.news/wp-content/uploads/2025/12/SIMTOS.png
END:VEVENT
END:VCALENDAR