BEGIN:VCALENDAR
VERSION:2.0
PRODID:-//Metrology and Quality News - Online Magazine - ECPv6.15.20//NONSGML v1.0//EN
CALSCALE:GREGORIAN
METHOD:PUBLISH
X-WR-CALNAME:Metrology and Quality News - Online Magazine
X-ORIGINAL-URL:https://metrology.news
X-WR-CALDESC:Events for Metrology and Quality News - Online Magazine
REFRESH-INTERVAL;VALUE=DURATION:PT1H
X-Robots-Tag:noindex
X-PUBLISHED-TTL:PT1H
BEGIN:VTIMEZONE
TZID:Europe/Paris
BEGIN:DAYLIGHT
TZOFFSETFROM:+0100
TZOFFSETTO:+0200
TZNAME:CEST
DTSTART:20250330T010000
END:DAYLIGHT
BEGIN:STANDARD
TZOFFSETFROM:+0200
TZOFFSETTO:+0100
TZNAME:CET
DTSTART:20251026T010000
END:STANDARD
BEGIN:DAYLIGHT
TZOFFSETFROM:+0100
TZOFFSETTO:+0200
TZNAME:CEST
DTSTART:20260329T010000
END:DAYLIGHT
BEGIN:STANDARD
TZOFFSETFROM:+0200
TZOFFSETTO:+0100
TZNAME:CET
DTSTART:20261025T010000
END:STANDARD
BEGIN:DAYLIGHT
TZOFFSETFROM:+0100
TZOFFSETTO:+0200
TZNAME:CEST
DTSTART:20270328T010000
END:DAYLIGHT
BEGIN:STANDARD
TZOFFSETFROM:+0200
TZOFFSETTO:+0100
TZNAME:CET
DTSTART:20271031T010000
END:STANDARD
END:VTIMEZONE
BEGIN:VEVENT
DTSTART;VALUE=DATE:20260420
DTEND;VALUE=DATE:20260425
DTSTAMP:20260423T115406
CREATED:20251228T104012Z
LAST-MODIFIED:20251228T153157Z
UID:72799-1776643200-1777075199@metrology.news
SUMMARY:MACH 2026 - UK
DESCRIPTION:MACH 2026 is the United Kingdom’s premier manufacturing technologies exhibition\, taking place 20–24 April 2026 at the NEC in Birmingham\, UK. \nOrganized by the Manufacturing Technologies Association (MTA)\, this biennial event brings together over 600 exhibitors and around 26\,000 engineering and manufacturing professionals to explore cutting‑edge technologies\, live production systems and innovative solutions across the manufacturing spectrum. \nMACH 2026 showcases everything from machine tools\, cutting tools and metrology equipment to additive manufacturing\, robotics\, automation and digital technologies\, offering practical insights\, live demonstrations and opportunities for networking\, business development and investment in the future of engineering‑based production. \nWith dedicated Knowledge Hubs focusing on topics like AI\, automation and additive manufacturing\, plus zones highlighting sheet metal\, metalforming and fabrication innovations\, the show is a key platform for inspiring growth\, boosting competitiveness and connecting buyers\, specifiers and decision‑makers with suppliers in a live\, interactive environment.
URL:https://metrology.news/event/mach-2026-uk/
LOCATION:NEC\, Birmingham\, United Kingdom
CATEGORIES:Conference,Exhibition
ATTACH;FMTTYPE=image/jpeg:https://metrology.news/wp-content/uploads/2025/12/MACH_2026.jpg
END:VEVENT
BEGIN:VEVENT
DTSTART;VALUE=DATE:20260420
DTEND;VALUE=DATE:20260425
DTSTAMP:20260423T115406
CREATED:20260101T210657Z
LAST-MODIFIED:20260101T210657Z
UID:73122-1776643200-1777075199@metrology.news
SUMMARY:HANNOVER MESSE - GERMANY
DESCRIPTION:HANNOVER MESSE is the world’s leading industrial trade fair\, showcasing cutting‑edge manufacturing technologies\, automation\, digitalization\, energy systems\, and innovation on a global stage. \nThe 2026 edition will be held from April 20 to April 24\, 2026\, taking place at the Hannover Exhibition Centre in Hannover\, Germany. It brings together thousands of exhibitors and industry leaders to explore trends in smart factories\, industrial IoT\, AI\, robotics\, sustainable energy\, and research‑to‑application transfer\, making it a pivotal event for shaping the future of industrial production and international collaboration.
URL:https://metrology.news/event/hannover-messe-germany/
LOCATION:Hannover Exhibition Grounds\, Messegelände\, Hanover\, 30521\, Germany
CATEGORIES:Conference,Exhibition
ATTACH;FMTTYPE=image/png:https://metrology.news/wp-content/uploads/2023/01/Hannover-Messe-Logo.png
END:VEVENT
BEGIN:VEVENT
DTSTART;VALUE=DATE:20260421
DTEND;VALUE=DATE:20260425
DTSTAMP:20260423T115406
CREATED:20251228T133529Z
LAST-MODIFIED:20251228T153259Z
UID:72863-1776729600-1777075199@metrology.news
SUMMARY:DIE & MOULD INDIA 2026 - INDIA
DESCRIPTION:DIE & MOULD INDIA 2026 is the 14th biennial International Die & Mould Exhibition\, taking place April 21–24\, 2026 at the Bombay Exhibition Centre in Mumbai\, India. \nOrganized by the Tool and Gauge Manufacturers Association of India (TAGMA India)\, it has established itself as India’s largest and most influential expo for the die\, mould and tooling industry\, drawing industry leaders\, technology innovators and manufacturing professionals from around the world. \nThe event showcases a comprehensive range of advanced technologies — from additive manufacturing and CNC machining to EDM systems\, CAD/CAM software\, injection moulding machines\, heat treatment and quality inspection tools — catering to sectors such as automotive\, aerospace\, electronics and plastics manufacturing. \nWith live demos\, product launches and extensive networking opportunities\, DIE & MOULD INDIA 2026 serves as a vital platform for discovering cutting‑edge solutions\, building partnerships and driving growth in precision tooling and die/mould production.
URL:https://metrology.news/event/die-mould-india-2026-india/
LOCATION:Bombay Exhibition Centre\, Goregaon\, Mumbai\, India
CATEGORIES:Exhibition
ATTACH;FMTTYPE=image/png:https://metrology.news/wp-content/uploads/2025/12/DIE-MOULD-INDIA-2026.png
END:VEVENT
BEGIN:VEVENT
DTSTART;VALUE=DATE:20260421
DTEND;VALUE=DATE:20260424
DTSTAMP:20260423T115406
CREATED:20251228T163929Z
LAST-MODIFIED:20251228T163929Z
UID:72924-1776729600-1776988799@metrology.news
SUMMARY:MRO AMERICAS 2026 - USA
DESCRIPTION:MRO Americas 2026 (Maintenance\, Repair & Overhaul Americas) is North America’s premier aviation maintenance\, repair and overhaul industry event\, taking place April 21–23\, 2026 at the Orange County Convention Center in Orlando\, Florida\, USA. \nFocused on the full spectrum of commercial aerospace MRO activities\, the show brings together airlines\, OEMs\, suppliers\, maintenance professionals and regulators for three days of cutting-edge exhibits\, expert-led sessions\, live demonstrations and networking opportunities across the global aviation aftermarket. Co-located with the Military Aviation Logistics and Maintenance Symposium (MALMS) and featuring special elements like the Go Live! Theater and Aerospace Maintenance Competition\, MRO Americas provides a platform for exploring the latest technologies\, best practices and strategic trends that are shaping safety\, efficiency and innovation in aircraft maintenance and support services
URL:https://metrology.news/event/mro-americas-2026-usa/
LOCATION:Orange County Convention Center\, 9800 International Dr\, Orlando\, FL\, 32819\, United States
CATEGORIES:Conference,Exhibition
ATTACH;FMTTYPE=image/png:https://metrology.news/wp-content/uploads/2025/12/MRO-AMERICAS.png
END:VEVENT
BEGIN:VEVENT
DTSTART;VALUE=DATE:20260421
DTEND;VALUE=DATE:20260426
DTSTAMP:20260423T115406
CREATED:20251228T181548Z
LAST-MODIFIED:20251228T181548Z
UID:72931-1776729600-1777161599@metrology.news
SUMMARY:CCMT 2026 - CHINA
DESCRIPTION:CCMT 2026 – China CNC Machine Tool Fair is one of Asia’s most significant trade exhibitions for CNC machine tools\, precision equipment and advanced manufacturing technologies\, taking place April 21–25\, 2026 at the Shanghai New International Expo Centre (SNIEC) in Shanghai\, China. \nFounded in 2000 and held biennially\, CCMT provides a major global platform for manufacturers\, suppliers and industry professionals to showcase and explore innovations in CNC machining\, metal cutting and forming\, automation\, robotics\, digital manufacturing\, laser processing and related systems — including measuring & inspection technologies and components integral to modern production systems. With thousands of exhibitors and tens of thousands of professional attendees expected\, the event fosters networking\, business development and insights into trends shaping precision machining and smart manufacturing across industries worldwide.
URL:https://metrology.news/event/ccmt-2026-china/
LOCATION:Shanghai New International Expo Center\, No.2345 Longyang Road\, Pudong\, Shanghai\, China
CATEGORIES:Exhibition
ATTACH;FMTTYPE=image/png:https://metrology.news/wp-content/uploads/2025/12/CCMT-2026-CHINA.png
END:VEVENT
BEGIN:VEVENT
DTSTART;VALUE=DATE:20260421
DTEND;VALUE=DATE:20260425
DTSTAMP:20260423T115406
CREATED:20251229T094049Z
LAST-MODIFIED:20251229T094049Z
UID:73006-1776729600-1777075199@metrology.news
SUMMARY:INTERTOOL 2026 - AUSTRIA
DESCRIPTION:INTERTOOL 2026 is Austria’s leading trade fair for manufacturing technology\, focusing on machine tools\, production technology\, precision tools\, automation\, additive manufacturing\, metrology\, and industrial software. \nINTERTOOL 2026 brings together manufacturers\, suppliers\, and industry professionals from across Europe for networking\, business development\, and showcasing innovations in digital and sustainable production. The event will take place April 21–24\, 2026\, at Messe Wels in Wels\, Austria. \nINTERTOOL is held biennially and attracts around 350 exhibitors and over 10\,000 trade visitors from more than 40 countries\, offering a strong platform for exploring the latest trends in machine tools\, robotics\, automation\, and quality assurance.
URL:https://metrology.news/event/intertool-2026-austria/
LOCATION:Messe Wels\, Messepl.\, Wels\, Austria
CATEGORIES:Exhibition
ATTACH;FMTTYPE=image/png:https://metrology.news/wp-content/uploads/2025/12/INTERTOOL-2026.png
END:VEVENT
BEGIN:VEVENT
DTSTART;VALUE=DATE:20260422
DTEND;VALUE=DATE:20260424
DTSTAMP:20260423T115406
CREATED:20251228T162712Z
LAST-MODIFIED:20251228T162712Z
UID:72917-1776816000-1776988799@metrology.news
SUMMARY:MD&M SOUTH - USA
DESCRIPTION:MD&M South 2026 (Medical Design & Manufacturing South) is a major advanced manufacturing and medical device trade event taking place April 22–23\, 2026 at the Charlotte Convention Center in Charlotte\, North Carolina\, USA. \nMD&M South brings together over 3\,000 attendees and 300+ exhibitors across six interconnected sectors — MedTech\, automation\, packaging\, design & manufacturing\, plastics\, and powder & bulk solids — under one roof\, offering a broad view of the product lifecycle from prototype to production. \nThe show features free educational sessions\, expert-led theaters\, networking opportunities and live exhibits that showcase cutting-edge solutions in medical device production\, industrial automation\, materials\, and related technologies\, making it a valuable forum for engineers\, manufacturing professionals and decision-makers seeking new technologies and partnerships.
URL:https://metrology.news/event/mdm-south-usa/
LOCATION:Charlotte Convention Center\, 501 S College St\, Charlotte\, NC\, 28202\, United States
CATEGORIES:Exhibition
ATTACH;FMTTYPE=image/png:https://metrology.news/wp-content/uploads/2025/12/MDM-South.png
END:VEVENT
BEGIN:VEVENT
DTSTART;VALUE=DATE:20260422
DTEND;VALUE=DATE:20260424
DTSTAMP:20260423T115406
CREATED:20251228T163358Z
LAST-MODIFIED:20251228T163358Z
UID:72921-1776816000-1776988799@metrology.news
SUMMARY:BATTERY SHOW SOUTH 2026 - USA
DESCRIPTION:The Battery Show South 2026 is a two-day trade show and conference focused on advanced battery\, electric vehicle (EV) and energy storage technologies\, taking place April 22–23\, 2026 at the Charlotte Convention Center in Charlotte\, North Carolina\, USA. \nBattery Show South serves as the premier destination for professionals across the electrification value chain — including engineers\, OEMs\, suppliers and innovators — to explore cutting-edge solutions in battery manufacturing\, EV systems\, energy storage\, materials\, testing technologies and related innovations. \nWith hundreds of exhibitors\, 100+ speakers\, extensive educational programming and targeted networking opportunities\, attendees can engage with the latest market trends\, discover new products and connect with peers shaping the future of battery and energy technologies in a rapidly expanding regional ecosystem known as the “Battery Belt.”
URL:https://metrology.news/event/battery-show-south-2026-usa/
LOCATION:Charlotte Convention Center\, 501 S College St\, Charlotte\, NC\, 28202\, United States
CATEGORIES:Conference,Exhibition
ATTACH;FMTTYPE=image/jpeg:https://metrology.news/wp-content/uploads/2025/12/TheBatteryShowSouthLogo.jpg
END:VEVENT
END:VCALENDAR